BEGIN:VCALENDAR
VERSION:2.0
PRODID:-//Lagan Valley Vineyard - ECPv6.15.20//NONSGML v1.0//EN
CALSCALE:GREGORIAN
METHOD:PUBLISH
X-ORIGINAL-URL:https://www.laganvalleyvineyard.com
X-WR-CALDESC:Events for Lagan Valley Vineyard
REFRESH-INTERVAL;VALUE=DURATION:PT1H
X-Robots-Tag:noindex
X-PUBLISHED-TTL:PT1H
BEGIN:VTIMEZONE
TZID:UTC
BEGIN:STANDARD
TZOFFSETFROM:+0000
TZOFFSETTO:+0000
TZNAME:UTC
DTSTART:20230101T000000
END:STANDARD
END:VTIMEZONE
BEGIN:VEVENT
DTSTART;TZID=UTC:20240610T193000
DTEND;TZID=UTC:20240610T213000
DTSTAMP:20260421T145522
CREATED:20240410T115725Z
LAST-MODIFIED:20240410T115725Z
UID:10000504-1718047800-1718055000@www.laganvalleyvineyard.com
SUMMARY:Prison Fellowship NI Visit
DESCRIPTION:Come with us to visit our friends at Prison Fellowship NI. We will meet at their location in Belfast to pray with them and for them as we hear about their mission in Northern Ireland. \nSIGN UP HERE
URL:https://www.laganvalleyvineyard.com/event/prison-fellowship-ni-visit/
LOCATION:Prison Fellowship NI\, 39 University Street\, Belfast\, BT7 1FY\, 39 University Street\, Belfast\, BT7 1FY
ATTACH;FMTTYPE=image/png:https://www.laganvalleyvineyard.com/wp-content/uploads/2024/04/2.png
END:VEVENT
END:VCALENDAR