BEGIN:VCALENDAR
VERSION:2.0
PRODID:-//Lagan Valley Vineyard - ECPv6.15.20//NONSGML v1.0//EN
CALSCALE:GREGORIAN
METHOD:PUBLISH
X-ORIGINAL-URL:https://www.laganvalleyvineyard.com
X-WR-CALDESC:Events for Lagan Valley Vineyard
REFRESH-INTERVAL;VALUE=DURATION:PT1H
X-Robots-Tag:noindex
X-PUBLISHED-TTL:PT1H
BEGIN:VTIMEZONE
TZID:UTC
BEGIN:STANDARD
TZOFFSETFROM:+0000
TZOFFSETTO:+0000
TZNAME:UTC
DTSTART:20250101T000000
END:STANDARD
END:VTIMEZONE
BEGIN:VTIMEZONE
TZID:Europe/London
BEGIN:DAYLIGHT
TZOFFSETFROM:+0000
TZOFFSETTO:+0100
TZNAME:BST
DTSTART:20250330T010000
END:DAYLIGHT
BEGIN:STANDARD
TZOFFSETFROM:+0100
TZOFFSETTO:+0000
TZNAME:GMT
DTSTART:20251026T010000
END:STANDARD
BEGIN:DAYLIGHT
TZOFFSETFROM:+0000
TZOFFSETTO:+0100
TZNAME:BST
DTSTART:20260329T010000
END:DAYLIGHT
BEGIN:STANDARD
TZOFFSETFROM:+0100
TZOFFSETTO:+0000
TZNAME:GMT
DTSTART:20261025T010000
END:STANDARD
BEGIN:DAYLIGHT
TZOFFSETFROM:+0000
TZOFFSETTO:+0100
TZNAME:BST
DTSTART:20270328T010000
END:DAYLIGHT
BEGIN:STANDARD
TZOFFSETFROM:+0100
TZOFFSETTO:+0000
TZNAME:GMT
DTSTART:20271031T010000
END:STANDARD
END:VTIMEZONE
BEGIN:VEVENT
DTSTART;TZID=UTC:20260422T070000
DTEND;TZID=UTC:20260422T080000
DTSTAMP:20260422T141941
CREATED:20260325T123329Z
LAST-MODIFIED:20260325T155318Z
UID:10002238-1776841200-1776844800@www.laganvalleyvineyard.com
SUMMARY:Wednesday Morning Prayers
DESCRIPTION:“This\, then\, is how you should pray: \n‘Our Father in heaven\,\nhallowed be your name.'”\nMatthew 6:9 \nEvery Wednesday morning we will be gathering in The Loft to pray. \nAs a church family\, we’re committing to a regular rhythm of devotion and intercession\, as we centre ourselves upon Jesus and contend for His Kingdom to come. \nIf you’re able to pop in even for 10 minutes on your way to work or before the school run\, or want to stay for an extended time of prayer\, we’d love to see you. We’ll begin our time at 7AM and will wrap up just before 8AM. We’ll stick some coffee on so you can grab a cup at 8am before you head into the rest of your day. \n“Whenever God is ready to do something new with His people\, He always sets them to praying.”\nJ. Edwin Orr
URL:https://www.laganvalleyvineyard.com/event/wednesday-morning-prayers-2-2/2026-04-22/
LOCATION:The Loft\, LVV Church Venue
ATTACH;FMTTYPE=image/png:https://www.laganvalleyvineyard.com/wp-content/uploads/2024/09/Wed-Morn-Prayers-Winter-Graphic.png
END:VEVENT
BEGIN:VEVENT
DTSTART;TZID=UTC:20260422T100000
DTEND;TZID=UTC:20260422T120000
DTSTAMP:20260422T141941
CREATED:20241118T155439Z
LAST-MODIFIED:20260325T125747Z
UID:10001101-1776852000-1776859200@www.laganvalleyvineyard.com
SUMMARY:Quiet Space
DESCRIPTION:Sometimes life can feel really noisy and busy. \nWe’re creating a Quiet Space on Wednesday mornings. It will give us an opportunity to pause. A chance to join in with some activities – inside at tables or outside in the garden. We’ll also have a prayer space set up for quiet reflection. \nWe hope this Quiet Space will create an opportunity to connect with people from our community or just be in the room alongside others. We want this shared room to be a place where everyone feels welcome. Our desire is to provide a little bit of peace and the chance to connect with others in the middle of a busy week.  \nIf you feel this space is for you\, at any time\, you are welcome to come along to Quiet Space on Wednesday mornings from 10AM to 12PM in our Venue. 
URL:https://www.laganvalleyvineyard.com/event/quiet-space/2026-04-22/
ATTACH;FMTTYPE=image/png:https://www.laganvalleyvineyard.com/wp-content/uploads/2024/11/QP-Title-Slide-2.png
END:VEVENT
BEGIN:VEVENT
DTSTART;TZID=Europe/London:20260425T123000
DTEND;TZID=Europe/London:20260425T143000
DTSTAMP:20260422T141941
CREATED:20250331T154625Z
LAST-MODIFIED:20260401T113147Z
UID:10001658-1777120200-1777127400@www.laganvalleyvineyard.com
SUMMARY:All Nations Picnic
DESCRIPTION:This All Nations PICNIC is happening on Saturday 25th April at 12:30PM inside Hillsborough Presbyterian Church.  The food provided will be soup with bread & snacks\, but you can bring your own food if you would like to! \nEveryone is welcome\, especially those who have moved to the Lagan Valley area from another country. Come share food and have fun with new friends!  \nSIGN UP HERE
URL:https://www.laganvalleyvineyard.com/event/all-nations-picnic/
ATTACH;FMTTYPE=image/png:https://www.laganvalleyvineyard.com/wp-content/uploads/2025/03/AN-Hills-Title-Slide.png
END:VEVENT
BEGIN:VEVENT
DTSTART;TZID=Europe/London:20260426T090000
DTEND;TZID=Europe/London:20260426T093000
DTSTAMP:20260422T141941
CREATED:20260223T161101Z
LAST-MODIFIED:20260223T161143Z
UID:10001956-1777194000-1777195800@www.laganvalleyvineyard.com
SUMMARY:Pre-Service Prayer
DESCRIPTION:Join us for Pre-Service Prayer on Sunday mornings. \nThis is a time to gather quietly before the services begin across our Venue\, dedicating that time to prayer and intercession. We’ll be meeting in Refuge (upstairs) from 9AM to 9:30AM every week. \nWe would love to see you!
URL:https://www.laganvalleyvineyard.com/event/pre-service-prayer-3/2026-04-26/
ATTACH;FMTTYPE=image/png:https://www.laganvalleyvineyard.com/wp-content/uploads/2026/02/2-1.png
END:VEVENT
BEGIN:VEVENT
DTSTART;TZID=Europe/London:20260426T103000
DTEND;TZID=Europe/London:20260426T130000
DTSTAMP:20260422T141941
CREATED:20260119T160019Z
LAST-MODIFIED:20260415T104309Z
UID:10001934-1777199400-1777208400@www.laganvalleyvineyard.com
SUMMARY:Serve Sunday
DESCRIPTION:Join us for Serve Sunday at LVV! \nWe want to take intentional time as a church family to come together and serve others. Serve Sundays allow us to create community by giving to our wider community. We would love for you to join us. There is something for everyone to do! \nYou can join in with tending our garden or creating baby baths for local families. You can also get involved with bringing a church service to one of our local nursing homes (Lisadian or Pond Park). \nGet involved with community and help bring the love of Jesus to our local area! \nOur next Serve Sunday is Sunday 26th April.  \n 
URL:https://www.laganvalleyvineyard.com/event/serve-sunday-5/
ATTACH;FMTTYPE=image/png:https://www.laganvalleyvineyard.com/wp-content/uploads/2025/03/Serve-Sunday-1.png
END:VEVENT
BEGIN:VEVENT
DTSTART;TZID=UTC:20260429T070000
DTEND;TZID=UTC:20260429T080000
DTSTAMP:20260422T141941
CREATED:20260325T123329Z
LAST-MODIFIED:20260325T155318Z
UID:10002239-1777446000-1777449600@www.laganvalleyvineyard.com
SUMMARY:Wednesday Morning Prayers
DESCRIPTION:“This\, then\, is how you should pray: \n‘Our Father in heaven\,\nhallowed be your name.'”\nMatthew 6:9 \nEvery Wednesday morning we will be gathering in The Loft to pray. \nAs a church family\, we’re committing to a regular rhythm of devotion and intercession\, as we centre ourselves upon Jesus and contend for His Kingdom to come. \nIf you’re able to pop in even for 10 minutes on your way to work or before the school run\, or want to stay for an extended time of prayer\, we’d love to see you. We’ll begin our time at 7AM and will wrap up just before 8AM. We’ll stick some coffee on so you can grab a cup at 8am before you head into the rest of your day. \n“Whenever God is ready to do something new with His people\, He always sets them to praying.”\nJ. Edwin Orr
URL:https://www.laganvalleyvineyard.com/event/wednesday-morning-prayers-2-2/2026-04-29/
LOCATION:The Loft\, LVV Church Venue
ATTACH;FMTTYPE=image/png:https://www.laganvalleyvineyard.com/wp-content/uploads/2024/09/Wed-Morn-Prayers-Winter-Graphic.png
END:VEVENT
BEGIN:VEVENT
DTSTART;TZID=UTC:20260429T100000
DTEND;TZID=UTC:20260429T120000
DTSTAMP:20260422T141941
CREATED:20241118T155439Z
LAST-MODIFIED:20260325T125747Z
UID:10001102-1777456800-1777464000@www.laganvalleyvineyard.com
SUMMARY:Quiet Space
DESCRIPTION:Sometimes life can feel really noisy and busy. \nWe’re creating a Quiet Space on Wednesday mornings. It will give us an opportunity to pause. A chance to join in with some activities – inside at tables or outside in the garden. We’ll also have a prayer space set up for quiet reflection. \nWe hope this Quiet Space will create an opportunity to connect with people from our community or just be in the room alongside others. We want this shared room to be a place where everyone feels welcome. Our desire is to provide a little bit of peace and the chance to connect with others in the middle of a busy week.  \nIf you feel this space is for you\, at any time\, you are welcome to come along to Quiet Space on Wednesday mornings from 10AM to 12PM in our Venue. 
URL:https://www.laganvalleyvineyard.com/event/quiet-space/2026-04-29/
ATTACH;FMTTYPE=image/png:https://www.laganvalleyvineyard.com/wp-content/uploads/2024/11/QP-Title-Slide-2.png
END:VEVENT
END:VCALENDAR